Workbook
Name Locations: Lists!$A$2:$A$13
Name Vehicles: Lists!$B$2:$B$13
Name Destinations: Lists!$C$2:$C$7
Name Statuses: Lists!$D$2:$D$5

Sheet START HERE
A1: FICTIONAL EQUIPMENT REGISTER DEMO
A2: Nilo Works | AI-assisted UK digital service
A4: All items, places and vehicles are invented; not a real customer case.
A5: Equipment tab: edit rows; flags recalculate when opened in Excel.
A6: Lists tab: sample dropdown options; not a logistics database.
A7: Dashboard tab: counts are formulas; no live syncing or automatic manifests.
A8: The full £39 pilot is scoped and configured only after a written quote.

Sheet Equipment
A1: Asset ID | B1: Item | C1: Location | D1: Vehicle | E1: Destination | F1: Status | G1: Duplicate ID | H1: Required fields
A2: EQ-001 | B2: Tool case | C2: Store 01 | D2: Van 02 | E2: Depot 01 | F2: In use | G2: =IF(A2="","",IF(COUNTIF($A$2:$A$201,A2)>1,"DUPLICATE","")) | H2: =IF(COUNTA(A2:F2)=0,"",IF(OR(A2="",B2="",C2="",F2=""),"MISSING","OK"))
A3: EQ-002 | B3: Power drill | C3: Store 03 | E3: Depot 02 | F3: Available | G3: =IF(A3="","",IF(COUNTIF($A$2:$A$201,A3)>1,"DUPLICATE","")) | H3: =IF(COUNTA(A3:F3)=0,"",IF(OR(A3="",B3="",C3="",F3=""),"MISSING","OK"))
A4: EQ-002 | B4: Power drill (duplicate ID) | C4: Store 03 | E4: Depot 02 | F4: Review | G4: =IF(A4="","",IF(COUNTIF($A$2:$A$201,A4)>1,"DUPLICATE","")) | H4: =IF(COUNTA(A4:F4)=0,"",IF(OR(A4="",B4="",C4="",F4=""),"MISSING","OK"))
A5: EQ-004 | B5: Safety kit | C5: Store 06 | D5: Van 01 | E5: Depot 03 | G5: =IF(A5="","",IF(COUNTIF($A$2:$A$201,A5)>1,"DUPLICATE","")) | H5: =IF(COUNTA(A5:F5)=0,"",IF(OR(A5="",B5="",C5="",F5=""),"MISSING","OK"))
G6: =IF(A6="","",IF(COUNTIF($A$2:$A$201,A6)>1,"DUPLICATE","")) | H6: =IF(COUNTA(A6:F6)=0,"",IF(OR(A6="",B6="",C6="",F6=""),"MISSING","OK"))
G7: =IF(A7="","",IF(COUNTIF($A$2:$A$201,A7)>1,"DUPLICATE","")) | H7: =IF(COUNTA(A7:F7)=0,"",IF(OR(A7="",B7="",C7="",F7=""),"MISSING","OK"))
G8: =IF(A8="","",IF(COUNTIF($A$2:$A$201,A8)>1,"DUPLICATE","")) | H8: =IF(COUNTA(A8:F8)=0,"",IF(OR(A8="",B8="",C8="",F8=""),"MISSING","OK"))
G9: =IF(A9="","",IF(COUNTIF($A$2:$A$201,A9)>1,"DUPLICATE","")) | H9: =IF(COUNTA(A9:F9)=0,"",IF(OR(A9="",B9="",C9="",F9=""),"MISSING","OK"))
G10: =IF(A10="","",IF(COUNTIF($A$2:$A$201,A10)>1,"DUPLICATE","")) | H10: =IF(COUNTA(A10:F10)=0,"",IF(OR(A10="",B10="",C10="",F10=""),"MISSING","OK"))
G11: =IF(A11="","",IF(COUNTIF($A$2:$A$201,A11)>1,"DUPLICATE","")) | H11: =IF(COUNTA(A11:F11)=0,"",IF(OR(A11="",B11="",C11="",F11=""),"MISSING","OK"))
G12: =IF(A12="","",IF(COUNTIF($A$2:$A$201,A12)>1,"DUPLICATE","")) | H12: =IF(COUNTA(A12:F12)=0,"",IF(OR(A12="",B12="",C12="",F12=""),"MISSING","OK"))
G13: =IF(A13="","",IF(COUNTIF($A$2:$A$201,A13)>1,"DUPLICATE","")) | H13: =IF(COUNTA(A13:F13)=0,"",IF(OR(A13="",B13="",C13="",F13=""),"MISSING","OK"))
G14: =IF(A14="","",IF(COUNTIF($A$2:$A$201,A14)>1,"DUPLICATE","")) | H14: =IF(COUNTA(A14:F14)=0,"",IF(OR(A14="",B14="",C14="",F14=""),"MISSING","OK"))
G15: =IF(A15="","",IF(COUNTIF($A$2:$A$201,A15)>1,"DUPLICATE","")) | H15: =IF(COUNTA(A15:F15)=0,"",IF(OR(A15="",B15="",C15="",F15=""),"MISSING","OK"))
G16: =IF(A16="","",IF(COUNTIF($A$2:$A$201,A16)>1,"DUPLICATE","")) | H16: =IF(COUNTA(A16:F16)=0,"",IF(OR(A16="",B16="",C16="",F16=""),"MISSING","OK"))
G17: =IF(A17="","",IF(COUNTIF($A$2:$A$201,A17)>1,"DUPLICATE","")) | H17: =IF(COUNTA(A17:F17)=0,"",IF(OR(A17="",B17="",C17="",F17=""),"MISSING","OK"))
... G201: =IF(A201="","",IF(COUNTIF($A$2:$A$201,A201)>1,"DUPLICATE","")) | H201: =IF(COUNTA(A201:F201)=0,"",IF(OR(A201="",B201="",C201="",F201=""),"MISSING","OK"))

Sheet Lists
A1: Locations | B1: Vehicles | C1: Destinations | D1: Statuses
A2: Store 01 | B2: Van 01 | C2: Depot 01 | D2: Available
A3: Store 02 | B3: Van 02 | C3: Depot 02 | D3: In use
A4: Store 03 | B4: Van 03 | C4: Depot 03 | D4: Review
A5: Store 04 | B5: Van 04 | C5: Depot 04 | D5: Maintenance
A6: Store 05 | B6: Van 05 | C6: Depot 05
A7: Store 06 | B7: Van 06 | C7: Depot 06
A8: Store 07 | B8: Van 07
A9: Store 08 | B9: Van 08
A10: Store 09 | B10: Van 09
A11: Store 10 | B11: Van 10
A12: Store 11 | B12: Van 11
A13: Store 12 | B13: Van 12

Sheet Dashboard
A1: FICTIONAL DEMO SUMMARY | B1: Count
A2: Populated asset IDs | B2: =COUNTA(Equipment!A2:A201)
A3: Rows flagged DUPLICATE | B3: =COUNTIF(Equipment!G2:G201,"DUPLICATE")
A4: Rows flagged MISSING | B4: =COUNTIF(Equipment!H2:H201,"MISSING")
A5: Available | B5: =COUNTIF(Equipment!F2:F201,"Available")
A6: In use | B6: =COUNTIF(Equipment!F2:F201,"In use")
A7: Review | B7: =COUNTIF(Equipment!F2:F201,"Review")
A9: Sample only; not customer data.
